BEGIN:VCALENDAR
VERSION:2.0
PRODID:-//Women go tech - ECPv6.15.11//NONSGML v1.0//EN
CALSCALE:GREGORIAN
METHOD:PUBLISH
X-ORIGINAL-URL:https://www.womengotech.com
X-WR-CALDESC:Events for Women go tech
REFRESH-INTERVAL;VALUE=DURATION:PT1H
X-Robots-Tag:noindex
X-PUBLISHED-TTL:PT1H
BEGIN:VTIMEZONE
TZID:Europe/Warsaw
BEGIN:DAYLIGHT
TZOFFSETFROM:+0100
TZOFFSETTO:+0200
TZNAME:CEST
DTSTART:20240331T010000
END:DAYLIGHT
BEGIN:STANDARD
TZOFFSETFROM:+0200
TZOFFSETTO:+0100
TZNAME:CET
DTSTART:20241027T010000
END:STANDARD
BEGIN:DAYLIGHT
TZOFFSETFROM:+0100
TZOFFSETTO:+0200
TZNAME:CEST
DTSTART:20250330T010000
END:DAYLIGHT
BEGIN:STANDARD
TZOFFSETFROM:+0200
TZOFFSETTO:+0100
TZNAME:CET
DTSTART:20251026T010000
END:STANDARD
BEGIN:DAYLIGHT
TZOFFSETFROM:+0100
TZOFFSETTO:+0200
TZNAME:CEST
DTSTART:20260329T010000
END:DAYLIGHT
BEGIN:STANDARD
TZOFFSETFROM:+0200
TZOFFSETTO:+0100
TZNAME:CET
DTSTART:20261025T010000
END:STANDARD
END:VTIMEZONE
BEGIN:VTIMEZONE
TZID:UTC
BEGIN:STANDARD
TZOFFSETFROM:+0000
TZOFFSETTO:+0000
TZNAME:UTC
DTSTART:20240101T000000
END:STANDARD
END:VTIMEZONE
BEGIN:VEVENT
DTSTART;TZID=Europe/Warsaw:20250430T170000
DTEND;TZID=Europe/Warsaw:20250430T180000
DTSTAMP:20260422T201255
CREATED:20250414T110014Z
LAST-MODIFIED:20250416T070352Z
UID:14251-1746032400-1746036000@www.womengotech.com
SUMMARY:AI for Everyday Efficiency: 5 Ways to Save 5 Hours Every Week webinar
DESCRIPTION:Feel like AI is moving too fast to keep up? You’re not alone.\nIn a recent study\, we found that 61% of women in Central and Eastern Europe want to learn AI but don’t know where to start. \nJoin our free webinar on April 30th and discover how to harness AI’s power to simplify your work and stay competitive in today’s rapidly evolving landscape. \nWhat makes this webinar different?\nNo more theory or vague promises. This is hands-on learning that delivers immediate results: \n\nSee real tools in action — Watch as we demonstrate practical applications you can use tomorrow\nBefore/after time-saving examples — Witness the dramatic difference AI makes in everyday tasks\nBuild your first mini AI workflow — Leave with a working system you created during the session\n\n✍ Register today! \n️ 30.04.2025 | 6PM EET (Vilnius)\, 5PM CEST (Warsaw) \nAbout the speaker \nLisa Yakniunas isn’t just another AI theorist. As the Chief AI Officer at Havas Village and speaker for Google’s “AI for Productivity” course\, she transforms complex AI concepts into practical tools that save real people real time. \nHer impressive track record includes: \n\nOptimizing 150+ workflows across marketing\, SEO\, sales\, and analytics\nTraining 1\,200+ professionals from telecom\, logistics\, government\, and agencies\nDeveloping AI education programs for both technical and non-technical professionals\n\nMost importantly\, Lisa specializes in making AI accessible to everyone—regardless of technical background. \n  \n✍ Register today!
URL:https://www.womengotech.com/event/ai-for-everyday-efficiency-5-ways-to-save-5-hours-every-week-webinar/
CATEGORIES:AI
ATTACH;FMTTYPE=image/png:https://www.womengotech.com/wp-content/uploads/2025/04/169-AI-Foundations-Program-2025-800-x-450-px.png
END:VEVENT
BEGIN:VEVENT
DTSTART;TZID=UTC:20250129T180000
DTEND;TZID=UTC:20250129T190000
DTSTAMP:20260422T201255
CREATED:20250115T073652Z
LAST-MODIFIED:20250115T081432Z
UID:12513-1738173600-1738177200@www.womengotech.com
SUMMARY:From Intentions to Actions: Achieve Your Goals in 2025 - Free ChatGPT Webinar
DESCRIPTION:Ready to make 2025 your best year yet? It’s time to reflect on 2024\, embrace the power of AI\, and create a clear\, exciting path for your future. Join our fun\, interactive webinar to: \nUnlock beginner-friendly AI tools to set goals\, boost productivity\, and stay inspired.\nDesign your ideal life with ChatGPT—from career pivots to skill-building and landing your dream job. \nWhat to Expect:\nInteractive polls to reflect on 2024 and kick-start 2025 planning.\nLive demos of AI tools like ChatGPT for smarter time\, money\, and goal management.\n✍️ Hands-on goal-setting with a free AI-aided worksheet.\n❓ Live Q&A to get your questions answered! \nBonus: Stay till the end for exclusive perks for our upcoming program. \nLet’s make 2025 your year of growth\, balance\, and breakthroughs! \nRegister now and start building the life you’ve always dreamed of! \nIzzy Białkowska – Senior AI Product Designer at Goodnotes\, AI Mentor \nWith over a decade of experience designing impactful B2B and B2C products\, I’m all about simplifying complexity and making big ideas work smarter. At Goodnotes\, I combine my love of planning (I can’t get enough of it!) with a passion for AI\, leading the design of an AI-powered solution that enhances how people work and create. \nBut that’s not all—I’m also here to lift others up. I’ve mentored 100+ designers worldwide\, sharing practical tips\, industry insights\, and real-world strategies to help them grow and thrive. Whether it’s designing with AI or building a career you love\, I’m all about turning challenges into breakthroughs.
URL:https://www.womengotech.com/event/from-intentions-to-actions-achieve-your-goals-in-2025-free-chatgpt-webinar/
LOCATION:Online
CATEGORIES:AI
ATTACH;FMTTYPE=image/jpeg:https://www.womengotech.com/wp-content/uploads/2025/01/Zoom-cover-for-AI-webinar-800-x-450-px.jpg
END:VEVENT
END:VCALENDAR